BEGIN:VCALENDAR
VERSION:2.0
PRODID:-//Athena VII - ECPv6.15.20//NONSGML v1.0//EN
CALSCALE:GREGORIAN
METHOD:PUBLISH
X-WR-CALNAME:Athena VII
X-ORIGINAL-URL:http://75.101.143.69
X-WR-CALDESC:Events for Athena VII
REFRESH-INTERVAL;VALUE=DURATION:PT1H
X-Robots-Tag:noindex
X-PUBLISHED-TTL:PT1H
BEGIN:VTIMEZONE
TZID:America/Denver
BEGIN:DAYLIGHT
TZOFFSETFROM:-0700
TZOFFSETTO:-0600
TZNAME:MDT
DTSTART:20220313T090000
END:DAYLIGHT
BEGIN:STANDARD
TZOFFSETFROM:-0600
TZOFFSETTO:-0700
TZNAME:MST
DTSTART:20221106T080000
END:STANDARD
BEGIN:DAYLIGHT
TZOFFSETFROM:-0700
TZOFFSETTO:-0600
TZNAME:MDT
DTSTART:20230312T090000
END:DAYLIGHT
BEGIN:STANDARD
TZOFFSETFROM:-0600
TZOFFSETTO:-0700
TZNAME:MST
DTSTART:20231105T080000
END:STANDARD
BEGIN:DAYLIGHT
TZOFFSETFROM:-0700
TZOFFSETTO:-0600
TZNAME:MDT
DTSTART:20240310T090000
END:DAYLIGHT
BEGIN:STANDARD
TZOFFSETFROM:-0600
TZOFFSETTO:-0700
TZNAME:MST
DTSTART:20241103T080000
END:STANDARD
END:VTIMEZONE
BEGIN:VEVENT
DTSTART;TZID=America/Denver:20231228T080000
DTEND;TZID=America/Denver:20231228T170000
DTSTAMP:20260422T071811
CREATED:20231229T054525Z
LAST-MODIFIED:20240117T001029Z
UID:12922-1703750400-1703782800@75.101.143.69
SUMMARY:Lunch Test
DESCRIPTION:This is a test \nBuy Tickets!
URL:http://75.101.143.69/event/lunch-test/
LOCATION:Athena Beans\, 111 West 9000 S.\, Sandy\, UT\, 84070\, United States
ORGANIZER;CN="Athena Coffee Bistro":MAILTO:events@athena.thevillagesite.net
END:VEVENT
BEGIN:VEVENT
DTSTART;TZID=America/Denver:20231216T210000
DTEND;TZID=America/Denver:20231217T013000
DTSTAMP:20260422T071811
CREATED:20230304T023716Z
LAST-MODIFIED:20231215T201026Z
UID:6604-1702760400-1702776600@75.101.143.69
SUMMARY:Salsation Dance Nite
DESCRIPTION:Doors Open @8:30pm \nFree Dance Lessons @9pm \nDance @10:30pm – 1:30 am \nTickets at the door: $8 before 10pm\, $12 after 10pm \nFull bar opens @9:30pm \n**Remember No Outside Food/Drink/Containers Allowed.**
URL:http://75.101.143.69/event/salsation-13/
LOCATION:Athena Beans\, 111 West 9000 S.\, Sandy\, UT\, 84070\, United States
CATEGORIES:Fun & Entertainment
ATTACH;FMTTYPE=image/jpeg:http://75.101.143.69/wp-content/uploads/2023/03/Salsation.jpg
ORGANIZER;CN="Athena Coffee Bistro":MAILTO:events@athena.thevillagesite.net
END:VEVENT
END:VCALENDAR